BEGIN:VCALENDAR
VERSION:2.0
PRODID:falko-siering.de
METHOD:PUBLISH
BEGIN:VTIMEZONE
TZID:Europe/Berlin
X-LIC-LOCATION:Europe/Berlin
BEGIN:DAYLIGHT
TZOFFSETFROM:+0100
TZOFFSETTO:+0200
TZNAME:CEST
DTSTART:19700329T020000
RRULE:FREQ=YEARLY;INTERVAL=1;BYDAY=-1SU;BYMONTH=3
END:DAYLIGHT
BEGIN:STANDARD
TZOFFSETFROM:+0200
TZOFFSETTO:+0100
TZNAME:CET
DTSTART:19701025T030000
RRULE:FREQ=YEARLY;INTERVAL=1;BYDAY=-1SU;BYMONTH=10
END:STANDARD
END:VTIMEZONE
BEGIN:VEVENT
UID:3cf812a960f57118130d104973e168ca@falko-siering.de
URL;VALUE=URI:https://falko-siering.de/termine/energiewende-auf-fehmarn/
LOCATION:Café liebevoll, Bahnhofstr. 17, Fehmarn
SUMMARY:Energiewende auf Fehmarn
DESCRIPTION;ALTREP="data:text/html,%0A%3Cp%3EMit%20der%20Ampelkoalition%2
 0kommt%20neuer%20Wind%20in%20die%20Energiewende.%20Welche%20Chancen%20und
 %20Entwicklungsm%C3%B6glichkeiten%20Fehmarn%20dadurch%20hat%20und%20wie%2
 0wir%20auf%20Landesebene%20die%20Weichen%20richtig%20stellen%2C%20wollen%
 20wir%20mit%20unserem%20Energieexperten%20Tobias%20Goldschmidt%20diskutie
 ren.%20Um%20die%20Planungen%20f%C3%BCr%20die%20n%C3%A4chsten%20Jahre%20vo
 rzustellen%20haben%20wir%20drei%20Referenten%20eingeladen%3A%3C%2Fp%3E%0A
 %0A%0A%0A%3Cp%3EMarko%20M%C3%B6ller%2C%20Scandlines%2C%20Manager%20Specia
 l%20Projects%20zur%20Elektrifizierung%20der%20F%C3%A4hrlinie%3Cbr%3EDetle
 f%20Scheel%2C%20Windenergie%20Fehmarn%20zur%20Entwicklung%20der%20Windpar
 ks%3Cbr%3EBenjamin%20K%C3%B6neking%2C%20Solarpark%20Fehmarn%20GmbH%20%26a
 mp%3B%20Co.%20KG%20zum%20Solarpark%20entlang%20der%20E47%3C%2Fp%3E%0A%0A%
 0A%0A%3Cp%3EWir%20laden%20alle%20interessierten%20ein%20sich%20ein%20Bild
 %20%C3%BCber%20die%20zuk%C3%BCnftige%20Entwicklung%20zu%20verschaffen%20u
 nd%20zu%20diskutieren.%3C%2Fp%3E%0A":Mit der Ampelkoalition kommt neuer W
 ind in die Energiewende. Welche Chancen und Entwicklungsmöglichkeiten Fe
 hmarn dadurch hat und wie wir auf Landesebene die Weichen richtig stellen
 \, wollen wir mit unserem Energieexperten Tobias Goldschmidt diskutieren.
  Um die Planungen für die nächsten Jahre vorzustellen haben wir drei Re
 ferenten eingeladen:\n\nMarko Möller\, Scandlines\, Manager Special Proj
 ects zur Elektrifizierung der FährlinieDetlef Scheel\, Windenergie Fehma
 rn zur Entwicklung der WindparksBenjamin Köneking\, Solarpark Fehmarn Gm
 bH & Co. KG zum Solarpark entlang der E47\n\nWir laden alle interessierte
 n ein sich ein Bild über die zukünftige Entwicklung zu verschaffen und 
 zu diskutieren.
CLASS:PUBLIC
DTSTART;TZID=Europe/Berlin:20220420T113000
DTEND;TZID=Europe/Berlin:20220420T123000
DTSTAMP:20260421T094517
END:VEVENT
END:VCALENDAR